BEGIN:VCALENDAR
VERSION:2.0
PRODID:-//Weiterbildungsinstitut am Ostebogen (WIO) - ECPv6.15.20//NONSGML v1.0//EN
CALSCALE:GREGORIAN
METHOD:PUBLISH
X-ORIGINAL-URL:https://wio.ostebogen.de
X-WR-CALDESC:Veranstaltungen für Weiterbildungsinstitut am Ostebogen (WIO)
REFRESH-INTERVAL;VALUE=DURATION:PT1H
X-Robots-Tag:noindex
X-PUBLISHED-TTL:PT1H
BEGIN:VTIMEZONE
TZID:Europe/Berlin
BEGIN:DAYLIGHT
TZOFFSETFROM:+0100
TZOFFSETTO:+0200
TZNAME:CEST
DTSTART:20250330T010000
END:DAYLIGHT
BEGIN:STANDARD
TZOFFSETFROM:+0200
TZOFFSETTO:+0100
TZNAME:CET
DTSTART:20251026T010000
END:STANDARD
BEGIN:DAYLIGHT
TZOFFSETFROM:+0100
TZOFFSETTO:+0200
TZNAME:CEST
DTSTART:20260329T010000
END:DAYLIGHT
BEGIN:STANDARD
TZOFFSETFROM:+0200
TZOFFSETTO:+0100
TZNAME:CET
DTSTART:20261025T010000
END:STANDARD
BEGIN:DAYLIGHT
TZOFFSETFROM:+0100
TZOFFSETTO:+0200
TZNAME:CEST
DTSTART:20270328T010000
END:DAYLIGHT
BEGIN:STANDARD
TZOFFSETFROM:+0200
TZOFFSETTO:+0100
TZNAME:CET
DTSTART:20271031T010000
END:STANDARD
END:VTIMEZONE
BEGIN:VEVENT
DTSTART;TZID=Europe/Berlin:20261113T100000
DTEND;TZID=Europe/Berlin:20261113T173000
DTSTAMP:20260421T195345
CREATED:20251118T112914Z
LAST-MODIFIED:20260123T162642Z
UID:519-1794564000-1794591000@wio.ostebogen.de
SUMMARY:Kinder- und Jugendlichenpsychotherapie - Grundlagen
DESCRIPTION:Dozent:in: \nFrau Eugenia Salmaier M.A.\,  Kinder- und Jugendlichenpsychotherapeutin \nBeschreibung: \nDas Seminar dient als Brücke zwischen der KJP und der Erwachsenentherapie\, indem es\nzeigt\, wie kindliche Entwicklungsstörungen – etwa Bindungstraumen nach Bowlby – in\nadulte Verhaltensmuster übergehen können\, die in VT-Interventionen relevant sind.\nMit interaktiven Methoden wie Kleingruppenarbeit und Fallbeispielen lernen die\nTeilnehmer:innen\, Störungsbilder zu klassifizieren\, Differenzialdiagnosen zu stellen und\nevidenzbasierte Indikationen zu treffen.\nDas Ziel: Stärkung der therapeutischen Kompetenzen mit klarem Fokus auf praxisnahem\nWissensaustausch in vier Blöcken \nUmfang: \n8 Unterrichtseinheiten (UE)\, mit 8 Fortbildungspunkten anerkannt \nKosten:  \n160\,00 EUR (Weitere Informationen finden Sie in unserer Preisliste und unseren AGB) \nHinweis: \nDie Teilnahme an unseren Seminaren ist in der Regel Fachpsychotherapeut:innen in Weiterbildung\, Psychologischen/Ärztlichen Psychotherapeut:innen sowie Fachärzt:innen vorbehalten. Bitte beachten Sie\, dass nicht alle Veranstaltungen für alle Berufsgruppen geöffnet sind.
URL:https://wio.ostebogen.de/veranstaltung/kinder-und-jugendlichenpsychotherapie-grundlagen-akkreditierung-wird-beantragt/
LOCATION:Standort Stade\, Harburger Str. 2\, Stade\, Niedersachsen\, 21680\, Germany
ORGANIZER;CN="Weiterbildungsinstitut am Ostebogen (WIO)":MAILTO:fortbildung@zentrum.ostebogen.de
END:VEVENT
END:VCALENDAR