BEGIN:VCALENDAR
VERSION:2.0
PRODID:-//Weiterbildungsinstitut am Ostebogen (WIO) - ECPv6.15.20//NONSGML v1.0//EN
CALSCALE:GREGORIAN
METHOD:PUBLISH
X-ORIGINAL-URL:https://wio.ostebogen.de
X-WR-CALDESC:Veranstaltungen für Weiterbildungsinstitut am Ostebogen (WIO)
REFRESH-INTERVAL;VALUE=DURATION:PT1H
X-Robots-Tag:noindex
X-PUBLISHED-TTL:PT1H
BEGIN:VTIMEZONE
TZID:Europe/Berlin
BEGIN:DAYLIGHT
TZOFFSETFROM:+0100
TZOFFSETTO:+0200
TZNAME:CEST
DTSTART:20250330T010000
END:DAYLIGHT
BEGIN:STANDARD
TZOFFSETFROM:+0200
TZOFFSETTO:+0100
TZNAME:CET
DTSTART:20251026T010000
END:STANDARD
BEGIN:DAYLIGHT
TZOFFSETFROM:+0100
TZOFFSETTO:+0200
TZNAME:CEST
DTSTART:20260329T010000
END:DAYLIGHT
BEGIN:STANDARD
TZOFFSETFROM:+0200
TZOFFSETTO:+0100
TZNAME:CET
DTSTART:20261025T010000
END:STANDARD
BEGIN:DAYLIGHT
TZOFFSETFROM:+0100
TZOFFSETTO:+0200
TZNAME:CEST
DTSTART:20270328T010000
END:DAYLIGHT
BEGIN:STANDARD
TZOFFSETFROM:+0200
TZOFFSETTO:+0100
TZNAME:CET
DTSTART:20271031T010000
END:STANDARD
END:VTIMEZONE
BEGIN:VEVENT
DTSTART;TZID=Europe/Berlin:20260908T100000
DTEND;TZID=Europe/Berlin:20260909T163000
DTSTAMP:20260421T163551
CREATED:20251111T131517Z
LAST-MODIFIED:20260210T092422Z
UID:397-1788861600-1788971400@wio.ostebogen.de
SUMMARY:Schematherapie
DESCRIPTION:Dozent:in: \nFrau PD Dr. med. Eva Faßbinder\,  Fachärztin für Psychiatrie und Psychotherapie\nVerhaltenstherapeutin\, Schematherapeutin\, Privatpraxis für Psychische Gesundheit\, Lübeck \nBeschreibung:  \nEine theoretische Einführung nach Jeffrey E. Young\, Indikation und aktueller Forschungsstand \nDie Schematherapie (ST) nach Jeffrey Young stellt mittlerweile eine der wichtigsten Therapieoptionen für Menschen mit Persönlichkeitsstörungen (PS) und chronischen psychischen Beschwerden dar. Die ST basiert auf der Annahme\, dass aversive Kindheitserfahrungen und Frustration von Grundbedürfnissen zur Entwicklung von maladaptiven Schemata und Modi führen\, die die psychologischen Probleme der Patient:innen im Hier und Jetzt erklären. Die ST legt daher großen Wert auf die biografischen Entstehungsbedingungen. Um dysfunktionale Schemata und Modi zu verändern\, werden neben kognitiv- und verhaltensorientierten Techniken insbesondere emotionsorientierte Techniken wie Imagery Rescripting und Stuhldialoge eingesetzt und ein besonderer Schwerpunkt auf die Gestaltung der therapeutischen Beziehung („limited reparenting“) gelegt. In diesem praxisorientierten Vortrag wird anhand von Fallbeispielen die Erstellung eines schematherapeutischen Störungsmodells (Fallkonzeptualisierung mit Modusmodell) demonstriert und die zentralen schematherapeutischen Techniken lebendig vermittelt. Anschließend werden Stärken und Limitierungen der Schematherapie diskutiert. \nIn diesem Workshop werden zunächst anhand von Fallbeispielen das schematherapeutische Störungsmodell (Fallkonzeptualisierung mit Modusmodell) und zentrale schematherapeutische Techniken vermittelt und in Rollenspielen geübt. Die Teilnehmenden haben jederzeit die Möglichkeit\, eigene Fälle und Fragen miteinzubringen. \nUmfang: \n2 Termine mit 16 Unterrichtseinheiten (UE)\, anerkannt mit 16 Fortbildungspunkten \nDi\, 8. September 2026\n10:00 Uhr bis 17:30 Uhr mit Pause \nMi\, 9. September 2026\n09:00 Uhr bis 16:30 Uhr \nKosten:  \n320\,00 EUR (Weitere Informationen finden Sie in unserer Preisliste und unseren AGB) \nHinweis: \nDie Teilnahme an unseren Seminaren ist in der Regel Fachpsychotherapeut:innen in Weiterbildung\, Psychologischen/Ärztlichen Psychotherapeut:innen sowie Fachärzt:innen vorbehalten. Bitte beachten Sie\, dass nicht alle Veranstaltungen für alle Berufsgruppen geöffnet sind.
URL:https://wio.ostebogen.de/veranstaltung/schematherapie/
LOCATION:Standort Stade\, Harburger Str. 2\, Stade\, Niedersachsen\, 21680\, Germany
ORGANIZER;CN="Weiterbildungsinstitut am Ostebogen (WIO)":MAILTO:fortbildung@zentrum.ostebogen.de
END:VEVENT
BEGIN:VEVENT
DTSTART;TZID=Europe/Berlin:20260916T153000
DTEND;TZID=Europe/Berlin:20260916T180000
DTSTAMP:20260421T163551
CREATED:20251216T093023Z
LAST-MODIFIED:20260123T162526Z
UID:552-1789572600-1789581600@wio.ostebogen.de
SUMMARY:Umsetzung von Verträgen der Besonderen Versorgung - Einblick in die Praxis
DESCRIPTION:Dozent:in: \nHerr Dr.  Norbert Paas\nGeschäftsführer der IVPNetworks GmbH \nBeschreibung: \nMenschen mit psychischen Problemen brauchen häufig eine frühzeitige\, vernetzte und individuell zugeschnittene Unterstützung\, um ihre Lebensqualität nachhaltig zu verbessern. Die besondere Versorgung\, wie sie z. B. von IVPNetworks GmbH angeboten wird\, stellt den Menschen und seinen Bedarf in den Mittelpunkt. Sie sorgt dafür\, dass Betroffene schnell Hilfe bekommen\, eine umfassende Bedarfsanalyse erhalten und gemeinsam mit einem persönlichen Ansprechpartner einen gut abgestimmten Behandlungsplan bekommen. \nDer Beitrag zeigt verschiedene Versorgungsprogramme und deren Umsetzung. Insbesondere die ökonomische Logik auch aus Sicht der Kostenträger wird näher ausgeführt. \nIn den Versorgungsprogrammen sind die Online-Selbsthilfe-Programm von Novego häufig integriert. In einem Exkurs werden die verschiedenen Programme vorgestellt und die Entwicklungsschritte von der Idee zur erstattungsfähigen DiGA beschrieben. \nUmfang: \n1 Online-Termin 2\,5 Unterrichtseinheiten (UE) \nMi\, 16. September 2026\n15:30 Uhr bis 18:00 Uhr \nKosten:  \n50\,00 EUR (Weitere Informationen finden Sie in unserer Preisliste und unseren AGB) \nHinweis: \nDie Teilnahme an unseren Seminaren ist in der Regel Fachpsychotherapeut:innen in Weiterbildung\, Psychologischen/Ärztlichen Psychotherapeut:innen sowie Fachärzt:innen vorbehalten. Bitte beachten Sie\, dass nicht alle Veranstaltungen für alle Berufsgruppen geöffnet sind.
URL:https://wio.ostebogen.de/veranstaltung/umsetzung-von-vertraegen-der-besonderen-versorgung-einblick-in-die-praxis/
LOCATION:Online-Veranstaltung
ORGANIZER;CN="Weiterbildungsinstitut am Ostebogen (WIO)":MAILTO:fortbildung@zentrum.ostebogen.de
END:VEVENT
END:VCALENDAR