BEGIN:VCALENDAR
VERSION:2.0
PRODID:-//Weiterbildungsinstitut am Ostebogen (WIO) - ECPv6.15.20//NONSGML v1.0//EN
CALSCALE:GREGORIAN
METHOD:PUBLISH
X-WR-CALNAME:Weiterbildungsinstitut am Ostebogen (WIO)
X-ORIGINAL-URL:https://wio.ostebogen.de
X-WR-CALDESC:Veranstaltungen für Weiterbildungsinstitut am Ostebogen (WIO)
REFRESH-INTERVAL;VALUE=DURATION:PT1H
X-Robots-Tag:noindex
X-PUBLISHED-TTL:PT1H
BEGIN:VTIMEZONE
TZID:Europe/Berlin
BEGIN:DAYLIGHT
TZOFFSETFROM:+0100
TZOFFSETTO:+0200
TZNAME:CEST
DTSTART:20250330T010000
END:DAYLIGHT
BEGIN:STANDARD
TZOFFSETFROM:+0200
TZOFFSETTO:+0100
TZNAME:CET
DTSTART:20251026T010000
END:STANDARD
BEGIN:DAYLIGHT
TZOFFSETFROM:+0100
TZOFFSETTO:+0200
TZNAME:CEST
DTSTART:20260329T010000
END:DAYLIGHT
BEGIN:STANDARD
TZOFFSETFROM:+0200
TZOFFSETTO:+0100
TZNAME:CET
DTSTART:20261025T010000
END:STANDARD
BEGIN:DAYLIGHT
TZOFFSETFROM:+0100
TZOFFSETTO:+0200
TZNAME:CEST
DTSTART:20270328T010000
END:DAYLIGHT
BEGIN:STANDARD
TZOFFSETFROM:+0200
TZOFFSETTO:+0100
TZNAME:CET
DTSTART:20271031T010000
END:STANDARD
END:VTIMEZONE
BEGIN:VEVENT
DTSTART;TZID=Europe/Berlin:20260602T150000
DTEND;TZID=Europe/Berlin:20260609T181500
DTSTAMP:20260421T132306
CREATED:20251111T130715Z
LAST-MODIFIED:20260123T162226Z
UID:392-1780412400-1781028900@wio.ostebogen.de
SUMMARY:ADHS im Erwachsenenalter – Grundlagen\, Diagnostik und Behandlungsoptionen
DESCRIPTION:Dozent:in: \nHerr Dr.  Roy Murphy\nAusbildungs- und Ambulanzleitung – IFT-Nord Institut für Therapie- und Gesundheitsforschung gemeinnützige GmbH \nBeschreibung: \nIn diesem Workshop wird zunächst der aktuelle Forschungsstand zur Phänomenologie und Symptomatik der ADHS bei Erwachsenen dargestellt\, bevor Informationen zur Ätiologie und Pathophysiologie erörtert werden. Darauf aufbauend sollen typische klinische Verläufe und das Spektrum der Komorbiditäten betroffener Erwachsener mitgeteilt und schließlich die Grundlagen und wichtigsten Tools zur Diagnostik und Differentialdiagnostik vorgestellt werden. \nUmfang: \n2 Online-Termine à 4 Unterrichtseinheiten (UE)\, mit 8 Fortbildungspunkten anerkannt \nDi\, 2. Juni 2026\n15:00 Uhr bis 18:15 Uhr \nDi\, 9. Juni 2026\n15:00 Uhr bis 18:15 Uhr \nKosten:  \n160\,00 EUR (Weitere Informationen finden Sie in unserer Preisliste und unseren AGB) \nHinweis: \nDie Teilnahme an unseren Seminaren ist in der Regel Fachpsychotherapeut:innen in Weiterbildung\, Psychologischen/Ärztlichen Psychotherapeut:innen sowie Fachärzt:innen vorbehalten. Bitte beachten Sie\, dass nicht alle Veranstaltungen für alle Berufsgruppen geöffnet sind.
URL:https://wio.ostebogen.de/veranstaltung/adhs-im-erwachsenenalter-grundlagen-diagnostik-und-behandlungsoptionen/
LOCATION:Online-Veranstaltung
ORGANIZER;CN="Weiterbildungsinstitut am Ostebogen (WIO)":MAILTO:fortbildung@zentrum.ostebogen.de
END:VEVENT
BEGIN:VEVENT
DTSTART;TZID=Europe/Berlin:20260619T103000
DTEND;TZID=Europe/Berlin:20260620T170000
DTSTAMP:20260421T132306
CREATED:20251111T131134Z
LAST-MODIFIED:20260210T092310Z
UID:394-1781865000-1781974800@wio.ostebogen.de
SUMMARY:Essstörungen – Grundlagen und Behandlungsmethoden
DESCRIPTION:Dozent:in \nFrau Dr. Sarah Glanert\, Psychologische Psychotherapeutin (VT) \nBeschreibung: \nDas Seminar vermittelt angehenden Psychotherapeut:innen fundierte Grundlagen zu Essstörungen sowie praxisnahe Einblicke in diagnostische Einordnung\, Störungsmodelle und therapeutische Interventionen. Neben einer theoretischen Einführung werden medizinische Folgeerscheinungen\, typische Erscheinungsbilder und Fallbeispiele besprochen. Ein besonderer Schwerpunkt liegt auf der praktischen Anwendung therapeutischer Techniken. Die Teilnehmenden werden dazu eingeladen\, Interventionnen aktiv zu erproben\, sowohl in Kleingruppen als auch im Plenum\, und diese gemeinsam zu reflektieren. Ziel ist es\, Sicherheit im Umgang mit essstörungsspezifischen Interventionen für die eigene therapeutische Praxis zu entwickeln. \nUmfang: \n2 Termine à 8 Unterrichtseinheiten (UE)\, anerkannt mit 16 Fortbildungspunkten \nFr\, 19. Juni 2026\n10:30 Uhr bis 18:00 Uhr \nSa\, 20. Juni 2026\n09:30 Uhr bis 17:00 Uhr \nKosten:  \n320\,00 EUR (Weitere Informationen finden Sie in unserer Preisliste und unseren AGB) \nHinweis: \nDie Teilnahme an unseren Seminaren ist in der Regel Fachpsychotherapeut:innen in Weiterbildung\, Psychologischen/Ärztlichen Psychotherapeut:innen sowie Fachärzt:innen vorbehalten. Bitte beachten Sie\, dass nicht alle Veranstaltungen für alle Berufsgruppen geöffnet sind.
URL:https://wio.ostebogen.de/veranstaltung/essstoerungen-grundlagen-und-behandlungsmethoden/
LOCATION:Standort Stade\, Harburger Str. 2\, Stade\, Niedersachsen\, 21680\, Germany
ORGANIZER;CN="Weiterbildungsinstitut am Ostebogen (WIO)":MAILTO:fortbildung@zentrum.ostebogen.de
END:VEVENT
END:VCALENDAR