BEGIN:VCALENDAR
VERSION:2.0
PRODID:-//Weiterbildungsinstitut am Ostebogen (WIO) - ECPv6.15.20//NONSGML v1.0//EN
CALSCALE:GREGORIAN
METHOD:PUBLISH
X-WR-CALNAME:Weiterbildungsinstitut am Ostebogen (WIO)
X-ORIGINAL-URL:https://wio.ostebogen.de
X-WR-CALDESC:Veranstaltungen für Weiterbildungsinstitut am Ostebogen (WIO)
REFRESH-INTERVAL;VALUE=DURATION:PT1H
X-Robots-Tag:noindex
X-PUBLISHED-TTL:PT1H
BEGIN:VTIMEZONE
TZID:Europe/Berlin
BEGIN:DAYLIGHT
TZOFFSETFROM:+0100
TZOFFSETTO:+0200
TZNAME:CEST
DTSTART:20250330T010000
END:DAYLIGHT
BEGIN:STANDARD
TZOFFSETFROM:+0200
TZOFFSETTO:+0100
TZNAME:CET
DTSTART:20251026T010000
END:STANDARD
BEGIN:DAYLIGHT
TZOFFSETFROM:+0100
TZOFFSETTO:+0200
TZNAME:CEST
DTSTART:20260329T010000
END:DAYLIGHT
BEGIN:STANDARD
TZOFFSETFROM:+0200
TZOFFSETTO:+0100
TZNAME:CET
DTSTART:20261025T010000
END:STANDARD
BEGIN:DAYLIGHT
TZOFFSETFROM:+0100
TZOFFSETTO:+0200
TZNAME:CEST
DTSTART:20270328T010000
END:DAYLIGHT
BEGIN:STANDARD
TZOFFSETFROM:+0200
TZOFFSETTO:+0100
TZNAME:CET
DTSTART:20271031T010000
END:STANDARD
END:VTIMEZONE
BEGIN:VEVENT
DTSTART;TZID=Europe/Berlin:20260211T090000
DTEND;TZID=Europe/Berlin:20260211T160000
DTSTAMP:20260423T145716
CREATED:20251111T125857Z
LAST-MODIFIED:20260123T161529Z
UID:381-1770800400-1770825600@wio.ostebogen.de
SUMMARY:Metakognitive Therapie nach A. Wells (MCT)
DESCRIPTION:Dozent:in:\n \nFrau Sara Krakowski\, Psychologische Psychotherapeutin (VT)\nAbteilungsleitung Psychotherapie MVZ am Ostebogen Stade – MCT Therapeutin \nBeschreibung: \n„Negative Gedanken und Gefühle sind vergänglich\, es sei denn\, wir tun etwas\, um sie länger bei uns zu behalten.“ – A. Wells \nDie Metakognitive Therapie (MCT nach A. Wells) basiert auf der Annahme\, dass psychische Erkrankungen das Resultat eines ungünstigen Umgangs mit störenden Gefühlen\, Gedanken und Überzeugungen sind. Im Zentrum stehen Prozesse wie z.B. Sich-Sorgen-machen\, Grübeln und eine rigide Aufmerksamkeitslenkung. Die grundlegenden Konzepte und Störungsmodelle der MCT Therapie (u.a. für Generalisierte Angststörung und Depression) werden kompakt vermittelt. In praktischen Übungen werden wesentliche Basisfertigkeiten der MCT Therapie sowie spezifische Techniken wie das Aufmerksamkeitstraining (Attention Training Technique\, ATT) und die Losgelöste Achtsamkeit (Detached Mindfulness\, DM) erprobt und reflektiert. \nUmfang: \n8 Unterrichtseinheiten (UE)\, mit 8 Fortbildungspunkten anerkannt \nKosten:  \n160\,00 EUR (Weitere Informationen finden Sie in unserer Preisliste und unseren AGB) \nHinweis: \nDie Teilnahme an unseren Seminaren ist in der Regel Fachpsychotherapeut:innen in Weiterbildung\, Psychologischen/Ärztlichen Psychotherapeut:innen sowie Fachärzt:innen vorbehalten. Bitte beachten Sie\, dass nicht alle Veranstaltungen für alle Berufsgruppen geöffnet sind.
URL:https://wio.ostebogen.de/veranstaltung/metakognitive-therapie-nach-a-wells-mct-eine-theoretische-einfuehrung/
LOCATION:Standort Stade\, Harburger Str. 2\, Stade\, Niedersachsen\, 21680\, Germany
ORGANIZER;CN="Weiterbildungsinstitut am Ostebogen (WIO)":MAILTO:fortbildung@zentrum.ostebogen.de
END:VEVENT
END:VCALENDAR