BEGIN:VCALENDAR
VERSION:2.0
PRODID:-//Weiterbildungsinstitut am Ostebogen (WIO) - ECPv6.15.20//NONSGML v1.0//EN
CALSCALE:GREGORIAN
METHOD:PUBLISH
X-ORIGINAL-URL:https://wio.ostebogen.de
X-WR-CALDESC:Veranstaltungen für Weiterbildungsinstitut am Ostebogen (WIO)
REFRESH-INTERVAL;VALUE=DURATION:PT1H
X-Robots-Tag:noindex
X-PUBLISHED-TTL:PT1H
BEGIN:VTIMEZONE
TZID:Europe/Berlin
BEGIN:DAYLIGHT
TZOFFSETFROM:+0100
TZOFFSETTO:+0200
TZNAME:CEST
DTSTART:20240331T010000
END:DAYLIGHT
BEGIN:STANDARD
TZOFFSETFROM:+0200
TZOFFSETTO:+0100
TZNAME:CET
DTSTART:20241027T010000
END:STANDARD
BEGIN:DAYLIGHT
TZOFFSETFROM:+0100
TZOFFSETTO:+0200
TZNAME:CEST
DTSTART:20250330T010000
END:DAYLIGHT
BEGIN:STANDARD
TZOFFSETFROM:+0200
TZOFFSETTO:+0100
TZNAME:CET
DTSTART:20251026T010000
END:STANDARD
BEGIN:DAYLIGHT
TZOFFSETFROM:+0100
TZOFFSETTO:+0200
TZNAME:CEST
DTSTART:20260329T010000
END:DAYLIGHT
BEGIN:STANDARD
TZOFFSETFROM:+0200
TZOFFSETTO:+0100
TZNAME:CET
DTSTART:20261025T010000
END:STANDARD
END:VTIMEZONE
BEGIN:VEVENT
DTSTART;TZID=Europe/Berlin:20251120T090000
DTEND;TZID=Europe/Berlin:20251121T163000
DTSTAMP:20260425T143856
CREATED:20251111T121258Z
LAST-MODIFIED:20260108T142207Z
UID:361-1763629200-1763742600@wio.ostebogen.de
SUMMARY:Krisenintervention und Suizidalität
DESCRIPTION:Dozent:in: \nFrau Dr. Barbara Brandauer\, Dipl. Psych.\nAmbulanzleitung PTA Hamburg GmbH – Psychotherapieausbildung an der Universität Hamburg \nBeschreibung: \nKrisen und Suizidalität bei Patient:innen sind oft sehr belastend. Häufig bestehen Unsicherheiten im Umgang mit diesen Situationen. Dieses Seminar gibt einen Überblick zu Hintergründen\, Ursachen\, Warnsignalen und Handlungsmöglichkeiten bei Krisen und Suizidalität. \nUmfang: \n2 Termine à 8 Unterrichtseinheiten (UE) \nDo\, 20. November 2025\n09:00 Uhr bis 16:30 Uhr \nFr\, 21. November 2025\n09:00 Uhr bis 16:30 Uhr \nKosten:  \n320\,00 EUR (Weitere Informationen finden Sie in unserer Preisliste und unseren AGB) \nHinweis: \nDie Teilnahme an unseren Seminaren ist in der Regel Fachpsychotherapeut:innen in Weiterbildung\, Psychologischen/Ärztlichen Psychotherapeut:innen sowie Fachärzt:innen vorbehalten. Bitte beachten Sie\, dass nicht alle Veranstaltungen für alle Berufsgruppen geöffnet sind.
URL:https://wio.ostebogen.de/veranstaltung/krisenintervention-und-suizidalitaet/
LOCATION:Standort Stade\, Harburger Str. 2\, Stade\, Niedersachsen\, 21680\, Germany
ORGANIZER;CN="Weiterbildungsinstitut am Ostebogen (WIO)":MAILTO:fortbildung@zentrum.ostebogen.de
END:VEVENT
END:VCALENDAR